BEGIN:VCALENDAR
VERSION:2.0
PRODID:JCA-event-440275
X-APPLE-CALENDAR-COLOR:#E11A21
X-OUTLOOK-COLOR:#E11A21
X-FUNAMBOL-COLOR:#E11A21
X-WR-CALNAME:KAROL G - Viajando Por El Mundo Tropitour - Johan Cruijff Aren
 A
X-WR-TIMEZONE:Europe/Amsterdam
X-PUBLISHED-TTL:P1H
BEGIN:VTIMEZONE
TZID:Europe/Amsterdam
X-LIC-LOCATION:Europe/Amsterdam
BEGIN:DAYLIGHT
TZNAME:CEST
TZOFFSETFROM:+0100
TZOFFSETTO:+0200
DTSTART:19810329T030000
RRULE:FREQ=YEARLY;INTERVAL=1;BYMONTH=3;BYDAY=-1SU
END:DAYLIGHT
BEGIN:STANDARD
TZNAME:CET
TZOFFSETFROM:+0200
TZOFFSETTO:+0100
DTSTART:19961027T030000
RRULE:FREQ=YEARLY;INTERVAL=1;BYMONTH=10;BYDAY=-1SU
END:STANDARD
END:VTIMEZONE
BEGIN:VEVENT
UID:422089e6f647e1df73ff74af33e25670
DTSTART;TZID=Europe/Amsterdam:20270710T200000
SEQUENCE:0
TRANSP:OPAQUE
DTEND;TZID=Europe/Amsterdam:20270710T235900
URL:https://www.johancruijffarena.nl/kalender/440275-karol-g-viajando-por-e
 l-mundo-tropitour/
LOCATION:Johan Cruijff ArenA
SUMMARY:KAROL G - Viajando Por El Mundo Tropitour Johan Cruijff ArenA
CLASS:PUBLIC
DESCRIPTION:Aanvang: 20:00 uur\n\nMeer informatie over het tijdschema wordt
  later bekend.
DTSTAMP:20260422T045357Z
CREATED:20260421T110327Z
LAST-MODIFIED:20260421T140918Z
BEGIN:VALARM
TRIGGER:-PT15M
ACTION:DISPLAY
DESCRIPTION:KAROL G - Viajando Por El Mundo Tropitour
END:VALARM
END:VEVENT
END:VCALENDAR